BEGIN:VCALENDAR
VERSION:2.0
PRODID:-//pretix//DorfKultur_e.V.//
BEGIN:VTIMEZONE
TZID:Europe/Berlin
BEGIN:STANDARD
DTSTART:20001029T040000
RRULE:FREQ=YEARLY;BYDAY=-1SU;BYMONTH=10
TZNAME:CET
TZOFFSETFROM:+0200
TZOFFSETTO:+0100
END:STANDARD
BEGIN:DAYLIGHT
DTSTART:20000326T030000
RRULE:FREQ=YEARLY;BYDAY=-1SU;BYMONTH=3
TZNAME:CEST
TZOFFSETFROM:+0100
TZOFFSETTO:+0200
END:DAYLIGHT
END:VTIMEZONE
BEGIN:VEVENT
UID:pretix-doku-livelocal26-0@tickets.dorfkultur.net
DTSTART;TZID=Europe/Berlin:20260509T200000
DTEND;TZID=Europe/Berlin:20260509T210000
DESCRIPTION:Tickets: https://tickets.dorfkultur.net/livelocal26/\nEinlass: 
 09.05.2026 19:00\nVeranstalter: DorfKultur e.V.
DTSTAMP:20260420T021158Z
LOCATION:Mehrzweckhalle Dabringhausen\, An der Mehrzweckhalle 1\, 42929 Wer
 melskirchen
SUMMARY:Live & Local mit Mixtape 65 und Rokpak
END:VEVENT
END:VCALENDAR
